BEGIN:VCALENDAR
VERSION:2.0
PRODID:-//Sokol Alšovice - ECPv6.15.20//NONSGML v1.0//EN
CALSCALE:GREGORIAN
METHOD:PUBLISH
X-ORIGINAL-URL:https://dosokola.cz
X-WR-CALDESC:Akce na Sokol Alšovice
REFRESH-INTERVAL;VALUE=DURATION:PT1H
X-Robots-Tag:noindex
X-PUBLISHED-TTL:PT1H
BEGIN:VTIMEZONE
TZID:Europe/Prague
BEGIN:DAYLIGHT
TZOFFSETFROM:+0100
TZOFFSETTO:+0200
TZNAME:CEST
DTSTART:20150329T010000
END:DAYLIGHT
BEGIN:STANDARD
TZOFFSETFROM:+0200
TZOFFSETTO:+0100
TZNAME:CET
DTSTART:20151025T010000
END:STANDARD
BEGIN:DAYLIGHT
TZOFFSETFROM:+0100
TZOFFSETTO:+0200
TZNAME:CEST
DTSTART:20160327T010000
END:DAYLIGHT
BEGIN:STANDARD
TZOFFSETFROM:+0200
TZOFFSETTO:+0100
TZNAME:CET
DTSTART:20161030T010000
END:STANDARD
BEGIN:DAYLIGHT
TZOFFSETFROM:+0100
TZOFFSETTO:+0200
TZNAME:CEST
DTSTART:20170326T010000
END:DAYLIGHT
BEGIN:STANDARD
TZOFFSETFROM:+0200
TZOFFSETTO:+0100
TZNAME:CET
DTSTART:20171029T010000
END:STANDARD
BEGIN:DAYLIGHT
TZOFFSETFROM:+0100
TZOFFSETTO:+0200
TZNAME:CEST
DTSTART:20180325T010000
END:DAYLIGHT
BEGIN:STANDARD
TZOFFSETFROM:+0200
TZOFFSETTO:+0100
TZNAME:CET
DTSTART:20181028T010000
END:STANDARD
BEGIN:DAYLIGHT
TZOFFSETFROM:+0100
TZOFFSETTO:+0200
TZNAME:CEST
DTSTART:20190331T010000
END:DAYLIGHT
BEGIN:STANDARD
TZOFFSETFROM:+0200
TZOFFSETTO:+0100
TZNAME:CET
DTSTART:20191027T010000
END:STANDARD
END:VTIMEZONE
BEGIN:VEVENT
DTSTART;TZID=Europe/Prague:20180216T180000
DTEND;TZID=Europe/Prague:20180216T200000
DTSTAMP:20260420T045327
CREATED:20170112T213045Z
LAST-MODIFIED:20180113T185528Z
UID:267-1518804000-1518811200@dosokola.cz
SUMMARY:Valná hromada jednoty
DESCRIPTION:Agenda valné hromady: \n\nZahájení  a schválení programu valné hromady\nZprávy výboru\n\nZpráva o činnosti 2017\nZpráva o hospodaření 2017\nZpráva o rozpočtu 2017\nPlán činnosti na rok 2018\n\n\nZpráva kontrolní komise\nZprávy vedoucích oddílů\, náčelníka\, náčelnice\nDiskuse\nUsnesení valné hromady
URL:https://dosokola.cz/udalost/valna-hromada-jednoty-2/
END:VEVENT
BEGIN:VEVENT
DTSTART;TZID=Europe/Prague:20171203T160000
DTEND;TZID=Europe/Prague:20171203T160000
DTSTAMP:20260420T045327
CREATED:20171119T173643Z
LAST-MODIFIED:20171119T173843Z
UID:260-1512316800-1512316800@dosokola.cz
SUMMARY:Mikulášská besídka
DESCRIPTION:Mikuláš má pro Vás připravený bohatý program\, vánoční koledy\, nadílku a příjemnou atmosféru\, kterou mu pomůžou navodit čiperní čerti a rozjařený anděl. Více viz. leták níže.
URL:https://dosokola.cz/udalost/mikulasska-besidka-2/
END:VEVENT
BEGIN:VEVENT
DTSTART;TZID=Europe/Prague:20171118T200000
DTEND;TZID=Europe/Prague:20171118T200000
DTSTAMP:20260420T045327
CREATED:20171028T193159Z
LAST-MODIFIED:20171028T193159Z
UID:257-1511035200-1511035200@dosokola.cz
SUMMARY:Poslední leč
DESCRIPTION:Poslední leč je tradiční alšovická myslivecká zábava s výbornou zvěřinovou kuchyní. \nTěší se na Vás myslivci a sokolové z Alšovic.
URL:https://dosokola.cz/udalost/posledni-lec-2/
END:VEVENT
BEGIN:VEVENT
DTSTART;VALUE=DATE:20171006
DTEND;VALUE=DATE:20171009
DTSTAMP:20260420T045327
CREATED:20170307T180832Z
LAST-MODIFIED:20170915T174255Z
UID:234-1507248000-1507507199@dosokola.cz
SUMMARY:Víkendový podzimní výlet
DESCRIPTION:TURISTICKÝ ODDÍL při TJ Sokola Alšovice pořádá ve dnech 6. 10. – 8. 10. 2017\nVÍKENDOVÝ VÝLET DO KRUŠNÝCH HOR\nOdjezd autobusu v pátek 6. 10. 2017: \n14:25 Jablonec n/N (zast. Horní náměstí u OA)\n14:30 Jablonec n/N (zast. U Balvanu)\n14:40 Horní Maršovice (aut. zast. – směr ŽB)\n14:50 Pěnčín (aut. zast. Dřevěnka – směr ŽB)\n14:55 Pěnčín (aut. zast. prod. potr.– směr ŽB)\n15:00 Alšovice (aut. zast. – směr ŽB)\n15:15 Železný Brod (SUPŠ sklářská ŽB) \nPátek: \npříjezd na místo\, ubytování v hotelu Nástup – Loučná\, večeře\, nocleh \nSobota:\nsnídaně\, celodenní individuální pěší turistika\, nebo společný program\, večeře\, nocleh \nNeděle:\nsnídaně\, odjezd z ubytování\, při cestě domů návštěva Lokte (hrad\, město a\npěší turistika\, nebo program spojený s místním vinobraním)\, oběd\nindividuální\, poté přejezd do Doubí – Karlovy Vary (návštěva Vánočního\ndomu/muzea)\, návrat domů \nCENA: 2950\,- Kč/osoba\nV ceně je zahrnuto: \n2x ubytování s polopenzí formou bufetu v hotelu Nástup (včetně možnosti vstupu do bazénu\, sauny)\ndoprava klimatizovaným autobusem\nvstupné do Vánočního domu \nZájemce prosíme o přihlášení a zaplacení zájezdu ve výši 2950\,- Kč/os. nejpozději do 1. 10. 2017. \nPřihlásit se je možné i na telefonu 602 345 402 nebo e-mailu dana.pulickova@fipobex.cz \nNa vaši účast se těší D. Pulíčková!
URL:https://dosokola.cz/udalost/vikendovy-podzimni-vylet/
END:VEVENT
BEGIN:VEVENT
DTSTART;VALUE=DATE:20170826
DTEND;VALUE=DATE:20170828
DTSTAMP:20260420T045327
CREATED:20170216T194514Z
LAST-MODIFIED:20170216T195342Z
UID:211-1503705600-1503878399@dosokola.cz
SUMMARY:Výlet do Českého Krumlova s návštěvou otáčivého hlediště
DESCRIPTION:TURISTICKÝ ODDÍL při TJ Sokola Alšovice pořádá \nVE DNECH 26. 8. – 27. 8. 2017 \nVÝLET DO ČESKÉHO KRUMLOVA S NÁVŠTĚVOU OTÁČIVÉHO HLEDIŠTĚ \nOdjezd autobusu v sobotu 26. 8. 2017:  \n8:30 Jablonec n/N (zast. u OA – Horní náměstí) \n8:40 Jablonec n/N (zast. U Balvanu – směr ŽB) \n8:55 Pěnčín (aut. zast. – směr ŽB) \n9:00 Alšovice (aut. zast. – směr ŽB) \n9:15 Železný Brod (u SUPŠ Sklářské) \nSobota: \n\npříjezd v odpoledních hodinách na ubytování v DM Velešín\npřejezd autobusu na parkoviště u zámeckého parku v Českém Krumlově\nindividuální volno\nve 20:00 vstup do prostoru otáčivého hlediště\nod 20:30 divadelní představení „Ženy Jindřicha VIII.“\nIhned po ukončení divadelního představení odjezd do Velešína\n\nNeděle: \n\nsnídaně\nodjezd z ubytování\npři cestě domů návštěva města Tábor\n\nnávštěva muzea čokolády\, botanické zahrady\nIndividuální volno (oběd a historické jádro města)\nOdjezd z Tábora cca. v 16:00 hod.\n\n\nNávrat cca. mezi 19 – 20 hod.\n\nCENA: 1950\,- Kč/osoba \nV ceně je zahrnuto 1x ubytování se snídaní v DM Velešín\, vstupenka na divadelní představení\, vstupné do muzea čokolády a doprava klimatizovaným autobusem! \nZájemce prosíme o přihlášení a zaplacení zájezdu ve výši 1950\,- Kč/os. nejpozději do 30. 4. 2017. \nPřihlásit se je možné i na telefonu: 602 345 402 nebo e-mailu: dana.pulickova@fipobex.cz \nNa vaši účast se těší D. Pulíčková!\n \nOriginální plakát včetně obrázků:
URL:https://dosokola.cz/udalost/211/
END:VEVENT
BEGIN:VEVENT
DTSTART;TZID=Europe/Prague:20170617T200000
DTEND;TZID=Europe/Prague:20170617T200000
DTSTAMP:20260420T045327
CREATED:20170505T162213Z
LAST-MODIFIED:20170505T162350Z
UID:250-1497729600-1497729600@dosokola.cz
SUMMARY:Koncert JSB v Alšovicích
DESCRIPTION:Zdravím příznivce\, \nvšichni vrstevníci si budou jistě pamatovat skupinu JSB. \nJiž půl roku tato kapela opět zkouší a připravuje se na 4 letošní retro koncerty. Máme možnost Jardu přivítat i u nás v Alšovicích a to 17. června. \nKarel Daníček
URL:https://dosokola.cz/udalost/koncert-jsb-v-alsovicich/
LOCATION:Alšovická sokolovna
END:VEVENT
BEGIN:VEVENT
DTSTART;VALUE=DATE:20170603
DTEND;VALUE=DATE:20170604
DTSTAMP:20260420T045327
CREATED:20170307T175707Z
LAST-MODIFIED:20170307T175707Z
UID:229-1496448000-1496534399@dosokola.cz
SUMMARY:Tajný výlet
DESCRIPTION:Tajný výlet máme letos naplánovaný na sobotu 3.6.2017. Detaily doplníme později.
URL:https://dosokola.cz/udalost/tajny-vylet/
END:VEVENT
BEGIN:VEVENT
DTSTART;TZID=Europe/Prague:20170527T140000
DTEND;TZID=Europe/Prague:20170527T140000
DTSTAMP:20260420T045327
CREATED:20170409T185050Z
LAST-MODIFIED:20170409T185050Z
UID:244-1495893600-1495893600@dosokola.cz
SUMMARY:Alšovický jarmareček
DESCRIPTION:T.J. Sokol Alšovice Vás srdečně zve na 7. Alšovický jarmareček. \nStánkový prodej\ncukrovinky\, suvenýry\, skleněné figurky\, dřevěné hračky\, aj. \nAktrakce pro děti\nprojížďka na koních\, rybolov\, střelnice\, vláček\, řetízkový kolotoč\, aj. \nOd 16 hodin nám zahrají Kapelníci!
URL:https://dosokola.cz/udalost/alsovicky-jarmarecek/
END:VEVENT
BEGIN:VEVENT
DTSTART;TZID=Europe/Prague:20170430T193000
DTEND;TZID=Europe/Prague:20170430T230000
DTSTAMP:20260420T045327
CREATED:20170112T215621Z
LAST-MODIFIED:20170409T184335Z
UID:200-1493580600-1493593200@dosokola.cz
SUMMARY:Pálení čarodějnic
DESCRIPTION:V Alšovicích přivítáme jaro. \nMůžete se těšit na: \n\nlampionový průvod začíná u zastávky v Alšovicích v 19:30\nmasky čarodějnic vítány\nobčerstvení zajištěno
URL:https://dosokola.cz/udalost/paleni-carodejnic-2017/
END:VEVENT
BEGIN:VEVENT
DTSTART;TZID=Europe/Prague:20170429T060000
DTEND;TZID=Europe/Prague:20170429T180000
DTSTAMP:20260420T045327
CREATED:20170112T215217Z
LAST-MODIFIED:20170409T185215Z
UID:198-1493445600-1493488800@dosokola.cz
SUMMARY:Pochod krajem českých sklářů
DESCRIPTION:Konec dubna patří každým rokem alšovickému pochodu. \nProgram viz. plakát níže:
URL:https://dosokola.cz/udalost/pochod-krajem-ceskych-sklaru-2017/
END:VEVENT
BEGIN:VEVENT
DTSTART;TZID=Europe/Prague:20170421T180000
DTEND;TZID=Europe/Prague:20170421T180000
DTSTAMP:20260420T045327
CREATED:20170307T174946Z
LAST-MODIFIED:20170307T175053Z
UID:224-1492797600-1492797600@dosokola.cz
SUMMARY:Zájezd na muzikál: Sibyla\, královna ze Sáby
DESCRIPTION:Vyražte s námi za kulturou!\nTuristický oddíl při TJ Sokol Alšovice si Vás dovoluje pozvat na představení muzikálu SIBYLA\, královna ze Sáby! \nKDY? 21. 4. 2017 (pátek od 18:00)\nKDE? Divadlo Hybernia\, Praha 1\nCENA? Kč 1050\,- (vstupné + doprava)\nOdjezd autobusu:\n14:45 Jablonec nad Nisou (Horní nám.–aut. zast. u OA)\n14:50 Jablonec nad Nisou (U Balvanu-směr ŽB)\n15:05 Horní Maršovice (aut. zast.)\n15:10 Pěnčín (aut. zast.)\n15:15 Alšovice (aut. zast.)\n15:30 Železný Brod (u SUPŠ Sklářské) \nZájemce prosíme o přihlášení a zaplacení účastnického poplatku 1050\,-Kč na farmě u paní Pulíčkové\, nejpozději do 14. 4. 2017. \nOriginální plakát akce: Muzikál – Sibyla královna ze Sáby
URL:https://dosokola.cz/udalost/zajezd-na-muzikal-sibyla-kralovna-ze-saby/
END:VEVENT
BEGIN:VEVENT
DTSTART;TZID=Europe/Prague:20170325T200000
DTEND;TZID=Europe/Prague:20170326T030000
DTSTAMP:20260420T045327
CREATED:20161010T172246Z
LAST-MODIFIED:20161016T172831Z
UID:153-1490472000-1490497200@dosokola.cz
SUMMARY:Jarní ples
DESCRIPTION:Oslavte s námi příchod jara na tradičním Jarním plese v Alšovicích. Na plese se můžete těšit na zvěřinovou kuchyni. K tanci zahraje Taneční orchestr Domestic. \nTěší se na Vás sokolové z Alšovic.
URL:https://dosokola.cz/udalost/jarni-ples/
END:VEVENT
BEGIN:VEVENT
DTSTART;TZID=Europe/Prague:20170311T153000
DTEND;TZID=Europe/Prague:20170311T153000
DTSTAMP:20260420T045327
CREATED:20170216T192957Z
LAST-MODIFIED:20170216T195526Z
UID:208-1489246200-1489246200@dosokola.cz
SUMMARY:Dětský maškarní bál
DESCRIPTION:T. J. Sokol Alšovice pořádá Dětský maškarní bál\, který se koná v alšovické sokolovně 11. března od 15:30. Hry\, zábava a občerstvení jsou samozřejmostí. \n \n 
URL:https://dosokola.cz/udalost/detsky-maskarni-bal/
END:VEVENT
BEGIN:VEVENT
DTSTART;TZID=Europe/Prague:20170217T180000
DTEND;TZID=Europe/Prague:20170217T180000
DTSTAMP:20260420T045327
CREATED:20170112T213045Z
LAST-MODIFIED:20170112T213045Z
UID:192-1487354400-1487354400@dosokola.cz
SUMMARY:Valná hromada jednoty
DESCRIPTION:Agenda valné hromady: \n\nZahájení  a schválení programu valné hromady\nZprávy výboru\n\nZpráva o činnosti 2016\nZpráva o hospodaření 2016\nZpráva o rozpočtu 2016\nPlán činnosti na rok 2017\n\n\nZpráva kontrolní komise\nZprávy vedoucích oddílů\, náčelníka\, náčelnice\nDiskuse\nUsnesení valné hromady
URL:https://dosokola.cz/udalost/valna-hromada-jednoty/
END:VEVENT
BEGIN:VEVENT
DTSTART;TZID=Europe/Prague:20170129T130000
DTEND;TZID=Europe/Prague:20170129T160000
DTSTAMP:20260420T045327
CREATED:20170122T211633Z
LAST-MODIFIED:20170122T211720Z
UID:203-1485694800-1485705600@dosokola.cz
SUMMARY:Maškarní rej na lyžařském vleku Dráček
DESCRIPTION:T.J. Sokol Alšovice pořádá na lyžařském vleku Dráček maškarní rej.
URL:https://dosokola.cz/udalost/maskarni-rej-na-lyzarskem-vleku-dracek/
END:VEVENT
BEGIN:VEVENT
DTSTART;TZID=Europe/Prague:20161203T153000
DTEND;TZID=Europe/Prague:20161203T180000
DTSTAMP:20260420T045327
CREATED:20161110T215756Z
LAST-MODIFIED:20161118T094456Z
UID:186-1480779000-1480788000@dosokola.cz
SUMMARY:Mikulášská besídka
DESCRIPTION:Děti přijďte k nám do sokolovny na mikulášskou besídku s vánočními dílničkami. Těší se na vás Mikuláš\, čert a anděl.
URL:https://dosokola.cz/udalost/mikulasska-besidka/
END:VEVENT
BEGIN:VEVENT
DTSTART;TZID=Europe/Prague:20161119T200000
DTEND;TZID=Europe/Prague:20161120T030000
DTSTAMP:20260420T045327
CREATED:20161010T171709Z
LAST-MODIFIED:20161016T172622Z
UID:150-1479585600-1479610800@dosokola.cz
SUMMARY:Poslední leč
DESCRIPTION:Poslední leč je tradiční alšovická myslivecká zábava s výbornou zvěřinovou kuchyní. K tanci bude hrát Bohemia Universal Band. \nTěší se na Vás myslivci a sokolové z Alšovic.
URL:https://dosokola.cz/udalost/posledni-lec/
END:VEVENT
BEGIN:VEVENT
DTSTART;TZID=Europe/Prague:20160930T140000
DTEND;TZID=Europe/Prague:20161002T170000
DTSTAMP:20260420T045327
CREATED:20160825T120254Z
LAST-MODIFIED:20160825T143629Z
UID:121-1475244000-1475427600@dosokola.cz
SUMMARY:Víkendový výlet na Vysočinu
DESCRIPTION:Turistický oddíl při TJ Sokol Alšovice pořádá víkendový výlet na Vysočinu. \nOdjezd autobusu v pátek 30. 9. 2016: \n14:00 Jablonec n/N (zast. u Balvanu-směr ŽB)\n14:10 Horní Maršovice (aut. zast. – směr ŽB)\n14:20 Pěnčín (aut. zast. – směr ŽB)\n14:30 Alšovice (aut. zast. – směr ŽB)\n14:45 Železný Brod (u pobočky KB) \nPátek: \n\npříjezd na místo\, ubytování v hotelu Orea Resort Devět Skal\nvečeře\, nocleh\n\nSobota: \n\nsnídaně\, celodenní individuální pěší turistika\, nebo společný program (putování po historických a technických zajímavostech v okolí)\nvečeře\, nocleh\n\nNeděle: \n\nsnídaně\, odjezd z ubytování\, při cestě domů návštěva Pekla v Čertovině spojená s obědem a v případě příznivého počasí návštěva a pěší turistika v přírodní rezervaci Toulovcovy Maštale.\nNávrat domů\n\nCENA: 2950\,- Kč/osoba \nV ceně je zahrnuto 2x ubytování s polopenzí formou bufetu v hotelu Devět Skal (včetně možnosti vstupu do bazénu)\, doprava klimatizovaným autobusem\, vstupné do Pekla k Luciferovi! \nZájemce prosíme o přihlášení a zaplacení zájezdu ve výši 2950\,- Kč/os. nejpozději do 23. 9. 2016. \nPřihlásit se je možné i na telefonu 602 345 402 nebo e-mailu: dana.pulickova@fipobex.cz
URL:https://dosokola.cz/udalost/vykendovy-vylet-na-vysocinu/
LOCATION:Vysočina\, hotel Orea Resort Devět Skal
END:VEVENT
BEGIN:VEVENT
DTSTART;TZID=Europe/Prague:20160924T083000
DTEND;TZID=Europe/Prague:20160924T120000
DTSTAMP:20260420T045327
CREATED:20160912T053231Z
LAST-MODIFIED:20160912T053806Z
UID:135-1474705800-1474718400@dosokola.cz
SUMMARY:Spolu v pohybu
DESCRIPTION:T. J. Sokol Alšovice Vás zve na \nSportovní dopoledne pro rodiče a děti\n24.9. 2016 u sokolovny v Alšovicích\nPrezentace 8:30-9:00 \n\nuvítáme přihlášky předem na tel. 776 253 347 nebo e-mailu marickahalamova@seznam.cz (není podmínkou účasti)\nsoutěžit bude vždy 1 rodič a 1 dítě\ndvě soutěžní kategorie – předškolní děti a děti do 10 let\ndisciplíny: 60m\, Trojskok\, Hod plným míčem\, Vytrvalostní běh\, Hod na cíl
URL:https://dosokola.cz/udalost/spolu-v-pohybu/
END:VEVENT
BEGIN:VEVENT
DTSTART;TZID=Europe/Prague:20160909T170000
DTEND;TZID=Europe/Prague:20160909T180000
DTSTAMP:20260420T045327
CREATED:20160901T194124Z
LAST-MODIFIED:20160901T194124Z
UID:130-1473440400-1473444000@dosokola.cz
SUMMARY:Zápis do cvičení
DESCRIPTION:TJ Sokol Alšovice zve cvičence a cvičenky k zápisu pro cvičební období 2016/2017. \nZápis proběhne dne: 9.9.2016 od: 17.00 hod. \nCvičební hodiny: \n\n\n\nČTVRTEK\n18.00 – 19.00 hod.\nZDRAVOTNÍ CVIČENÍ PRO ŽENY\n\n\nPÁTEK\n16.00 – 16.45 hod.\nRODIČE S DĚTMI\n\n\n\n17.00 – 18.00 hod.\nPŘEDŠKOLNÍ DĚTI\n\n\n\n18.00 – 19.00 hod.\nVŠESTRANNOST MLADŠÍ DĚTI\n\n\n\n19.00 – 20.00 hod.\nVŠESTRANNOST STARŠÍ DĚTI\n\n\n\n16.30 – 18.00 hod.\nFLORBAL (další info. při přihlášení přímo od cvičitele)\n\n\n\nCENÍK : jednotlivé hod. pro ženy 20\,- Kč/1 hod.\nŽENY A DĚTI NA CELÉ CVIČEBNÍ OBDOBÍ – nečlenové 700\,- Kč\nčlenové SOKOLA ALŠOVICE 500\,- Kč \nUrčitě přijďte i pokud si nejste jistí výběrem hodiny – rádi poradíme se zařazením. \nTěší se na Vás všichni cvičitelé.
URL:https://dosokola.cz/udalost/zapis-do-cviceni/
LOCATION:Alšovická sokolovna
END:VEVENT
BEGIN:VEVENT
DTSTART;TZID=Europe/Prague:20160826T160000
DTEND;TZID=Europe/Prague:20160827T160000
DTSTAMP:20260420T045327
CREATED:20160822T200815Z
LAST-MODIFIED:20160822T225752Z
UID:99-1472227200-1472313600@dosokola.cz
SUMMARY:Rozloučení s prázdninami
DESCRIPTION:Rozloučení s prázdninami s přespáním v sokolovně pro děti z naší jednoty.
URL:https://dosokola.cz/udalost/rozlouceni-s-prazdninami/
LOCATION:Alšovická sokolovna
END:VEVENT
END:VCALENDAR