BEGIN:VCALENDAR
VERSION:2.0
PRODID:-//Sokol Alšovice - ECPv6.15.20//NONSGML v1.0//EN
CALSCALE:GREGORIAN
METHOD:PUBLISH
X-ORIGINAL-URL:https://dosokola.cz
X-WR-CALDESC:Akce na Sokol Alšovice
REFRESH-INTERVAL;VALUE=DURATION:PT1H
X-Robots-Tag:noindex
X-PUBLISHED-TTL:PT1H
BEGIN:VTIMEZONE
TZID:Europe/Prague
BEGIN:DAYLIGHT
TZOFFSETFROM:+0100
TZOFFSETTO:+0200
TZNAME:CEST
DTSTART:20170326T010000
END:DAYLIGHT
BEGIN:STANDARD
TZOFFSETFROM:+0200
TZOFFSETTO:+0100
TZNAME:CET
DTSTART:20171029T010000
END:STANDARD
BEGIN:DAYLIGHT
TZOFFSETFROM:+0100
TZOFFSETTO:+0200
TZNAME:CEST
DTSTART:20180325T010000
END:DAYLIGHT
BEGIN:STANDARD
TZOFFSETFROM:+0200
TZOFFSETTO:+0100
TZNAME:CET
DTSTART:20181028T010000
END:STANDARD
BEGIN:DAYLIGHT
TZOFFSETFROM:+0100
TZOFFSETTO:+0200
TZNAME:CEST
DTSTART:20190331T010000
END:DAYLIGHT
BEGIN:STANDARD
TZOFFSETFROM:+0200
TZOFFSETTO:+0100
TZNAME:CET
DTSTART:20191027T010000
END:STANDARD
BEGIN:DAYLIGHT
TZOFFSETFROM:+0100
TZOFFSETTO:+0200
TZNAME:CEST
DTSTART:20200329T010000
END:DAYLIGHT
BEGIN:STANDARD
TZOFFSETFROM:+0200
TZOFFSETTO:+0100
TZNAME:CET
DTSTART:20201025T010000
END:STANDARD
BEGIN:DAYLIGHT
TZOFFSETFROM:+0100
TZOFFSETTO:+0200
TZNAME:CEST
DTSTART:20210328T010000
END:DAYLIGHT
BEGIN:STANDARD
TZOFFSETFROM:+0200
TZOFFSETTO:+0100
TZNAME:CET
DTSTART:20211031T010000
END:STANDARD
END:VTIMEZONE
BEGIN:VEVENT
DTSTART;VALUE=DATE:20200425
DTEND;VALUE=DATE:20200426
DTSTAMP:20260419T234140
CREATED:20200213T194225Z
LAST-MODIFIED:20200415T052152Z
UID:457-1587772800-1587859199@dosokola.cz
SUMMARY:ZRUŠENO - Krajem českých sklářů
DESCRIPTION:Z důvodu aktuální situace – stavu nouze platného do 30. 4. 2020\, si Vás dovolujeme informovat o zrušení letošního ročníku pochodu „Krajem českých sklářů“\, který se měl konat 25. 4. 2020.
URL:https://dosokola.cz/udalost/krajem-ceskych-sklaru/
END:VEVENT
BEGIN:VEVENT
DTSTART;TZID=Europe/Prague:20200328T140000
DTEND;TZID=Europe/Prague:20200328T180000
DTSTAMP:20260419T234140
CREATED:20200206T192233Z
LAST-MODIFIED:20200310T164222Z
UID:450-1585404000-1585418400@dosokola.cz
SUMMARY:ZRUŠENO  - Maškarní karneval pro děti
DESCRIPTION:Na základě mimořádných opatření vlády proti šíření koronaviru Maškarní karneval pro děti pořádat nebudeme.
URL:https://dosokola.cz/udalost/karneval-pro-deti-2/
END:VEVENT
BEGIN:VEVENT
DTSTART;TZID=Europe/Prague:20200321T200000
DTEND;TZID=Europe/Prague:20200322T020000
DTSTAMP:20260419T234140
CREATED:20200106T195718Z
LAST-MODIFIED:20200310T164041Z
UID:435-1584820800-1584842400@dosokola.cz
SUMMARY:ZRUŠENO - Jarní ples
DESCRIPTION:Na základě mimořádných opatření vlády proti šíření koronaviru je Jarní ples v Alšovicích zrušen.
URL:https://dosokola.cz/udalost/jarni-ples-3/
END:VEVENT
BEGIN:VEVENT
DTSTART;TZID=Europe/Prague:20200222T170000
DTEND;TZID=Europe/Prague:20200222T203000
DTSTAMP:20260419T234140
CREATED:20200206T192635Z
LAST-MODIFIED:20200206T192635Z
UID:452-1582390800-1582403400@dosokola.cz
SUMMARY:Diskotéka pro děti
DESCRIPTION:Vhodné pro děti od 8 – 15 let.
URL:https://dosokola.cz/udalost/diskoteka-pro-deti/
END:VEVENT
BEGIN:VEVENT
DTSTART;TZID=Europe/Prague:20200221T180000
DTEND;TZID=Europe/Prague:20200221T220000
DTSTAMP:20260419T234140
CREATED:20200106T195612Z
LAST-MODIFIED:20200106T195945Z
UID:433-1582308000-1582322400@dosokola.cz
SUMMARY:Valná hromada
DESCRIPTION:Agenda valné hromady: \n\nZahájení  a schválení programu valné hromady\nZprávy výboru\nZpráva o činnosti 2019\nZpráva o hospodaření 2019\nZpráva o rozpočtu 2019\nPlán činnosti na rok 2020\nZpráva kontrolní komise\nZprávy vedoucích oddílů\, náčelníka\, náčelnice\nDiskuse\nUsnesení valné hromady
URL:https://dosokola.cz/udalost/valna-hromada/
END:VEVENT
BEGIN:VEVENT
DTSTART;TZID=Europe/Prague:20191207T160000
DTEND;TZID=Europe/Prague:20191207T200000
DTSTAMP:20260419T234140
CREATED:20191201T180356Z
LAST-MODIFIED:20191201T180356Z
UID:429-1575734400-1575748800@dosokola.cz
SUMMARY:Mikulášská besídka
DESCRIPTION:
URL:https://dosokola.cz/udalost/mikulasska-besidka-4/
END:VEVENT
BEGIN:VEVENT
DTSTART;VALUE=DATE:20191123
DTEND;VALUE=DATE:20191124
DTSTAMP:20260419T234140
CREATED:20191107T191918Z
LAST-MODIFIED:20191107T191918Z
UID:426-1574467200-1574553599@dosokola.cz
SUMMARY:Poslední leč
DESCRIPTION:Poslední leč je tradiční alšovická myslivecká zábava s výbornou zvěřinovou kuchyní. \nTěší se na Vás myslivci a sokolové z Alšovic.
URL:https://dosokola.cz/udalost/posledni-lec-3/
END:VEVENT
BEGIN:VEVENT
DTSTART;TZID=Europe/Prague:20191008T183000
DTEND;TZID=Europe/Prague:20191008T200000
DTSTAMP:20260419T234140
CREATED:20191003T175412Z
LAST-MODIFIED:20191003T175412Z
UID:417-1570559400-1570564800@dosokola.cz
SUMMARY:Večer sokolských světel
DESCRIPTION:Společné setkání k památnému dni sokolstva. Uctíme památku sokolských obětí za svobodu. \nHarmonogram:\n18:30 sraz u sokolovny v Alšovicích\n19:00 pochod se svíčkami k pomníku
URL:https://dosokola.cz/udalost/vecer-sokolskych-svetel/
END:VEVENT
BEGIN:VEVENT
DTSTART;VALUE=DATE:20191004
DTEND;VALUE=DATE:20191007
DTSTAMP:20260419T234140
CREATED:20190828T113338Z
LAST-MODIFIED:20190828T113338Z
UID:405-1570147200-1570406399@dosokola.cz
SUMMARY:Víkendový výlet do Beskyd
DESCRIPTION:
URL:https://dosokola.cz/udalost/vikendovy-vylet-do-beskyd/
END:VEVENT
BEGIN:VEVENT
DTSTART;VALUE=DATE:20190928
DTEND;VALUE=DATE:20190929
DTSTAMP:20260419T234140
CREATED:20190620T172455Z
LAST-MODIFIED:20190906T065834Z
UID:395-1569628800-1569715199@dosokola.cz
SUMMARY:Noc sokoloven
DESCRIPTION:Společně s dalšími sokolskými jednotami otevřeme večer 28. 9. 2019 od 16:00 alšovickou sokolovnu veřejnosti. Pro děti i dospělé jsme připravili následující program: \n\npouštění draků\ntáborák s opékáním špekáčků (špekáčky\, chléb\, hořčice – zajištěno)\nsvětelná opičí dráha\nprohlídka sokolského archivu\, vytvoření živého obrazu\nspaní v sokolovně – zájemce o přespání žádáme o nahlášení předem na tel. 604 258 084 nebo e-mailu lenka.lupinek@seznam.cz
URL:https://dosokola.cz/udalost/noc-sokoloven/
END:VEVENT
BEGIN:VEVENT
DTSTART;VALUE=DATE:20190920
DTEND;VALUE=DATE:20190921
DTSTAMP:20260419T234140
CREATED:20190906T070138Z
LAST-MODIFIED:20190906T070138Z
UID:413-1568937600-1569023999@dosokola.cz
SUMMARY:Spolu v pohybu
DESCRIPTION:Sportovní odpoledne pro rodiče a děti 20. 9. 2019 u sokolovny v Alšovicích. Prezentace 16:30 – 17:00.
URL:https://dosokola.cz/udalost/spolu-v-pohybu-2/
END:VEVENT
BEGIN:VEVENT
DTSTART;TZID=Europe/Prague:20190824T170000
DTEND;TZID=Europe/Prague:20190824T235900
DTSTAMP:20260419T234140
CREATED:20190819T172237Z
LAST-MODIFIED:20190819T172237Z
UID:401-1566666000-1566691140@dosokola.cz
SUMMARY:Loučení s létem
DESCRIPTION:Srdečně zveme na rozloučení s létem u alšovické sokolovny v sobotu 24. 8. od 17:00. Zahraje kapela Žízeň v čele s naším starostou Karlem Daníčkem.
URL:https://dosokola.cz/udalost/louceni-s-letem/
END:VEVENT
BEGIN:VEVENT
DTSTART;VALUE=DATE:20190622
DTEND;VALUE=DATE:20190623
DTSTAMP:20260419T234140
CREATED:20190617T180253Z
LAST-MODIFIED:20190617T180253Z
UID:392-1561161600-1561247999@dosokola.cz
SUMMARY:Tajný výlet
DESCRIPTION:
URL:https://dosokola.cz/udalost/tajny-vylet-3/
END:VEVENT
BEGIN:VEVENT
DTSTART;TZID=Europe/Prague:20190531T160000
DTEND;TZID=Europe/Prague:20190531T200000
DTSTAMP:20260419T234140
CREATED:20190509T181104Z
LAST-MODIFIED:20190509T181104Z
UID:385-1559318400-1559332800@dosokola.cz
SUMMARY:Dětský den
DESCRIPTION:Den plný her\, soutěží\, loutkového představení a odměn pro Vaše děti. \nDětský den je naplánován na pátek 31. 5. od 16:00 u alšovické sokolovny. \nPředstavení loutkového divadla je naplánováno na 19:00 hodinu.
URL:https://dosokola.cz/udalost/detsky-den-2/
END:VEVENT
BEGIN:VEVENT
DTSTART;VALUE=DATE:20190525
DTEND;VALUE=DATE:20190526
DTSTAMP:20260419T234140
CREATED:20190404T184353Z
LAST-MODIFIED:20190408T175404Z
UID:370-1558742400-1558828799@dosokola.cz
SUMMARY:Jarmareček
DESCRIPTION:
URL:https://dosokola.cz/udalost/jarmarecek/
END:VEVENT
BEGIN:VEVENT
DTSTART;VALUE=DATE:20190510
DTEND;VALUE=DATE:20190511
DTSTAMP:20260419T234140
CREATED:20190408T183448Z
LAST-MODIFIED:20190408T183601Z
UID:378-1557446400-1557532799@dosokola.cz
SUMMARY:Muzikál MÝDLOVÝ PRINC
DESCRIPTION:
URL:https://dosokola.cz/udalost/muzikal-mydlovy-princ/
END:VEVENT
BEGIN:VEVENT
DTSTART;TZID=Europe/Prague:20190430T190000
DTEND;TZID=Europe/Prague:20190430T230000
DTSTAMP:20260419T234140
CREATED:20190404T183919Z
LAST-MODIFIED:20190408T182944Z
UID:366-1556650800-1556665200@dosokola.cz
SUMMARY:Pálení čarodějnic
DESCRIPTION:
URL:https://dosokola.cz/udalost/paleni-carodejnic-2/
END:VEVENT
BEGIN:VEVENT
DTSTART;VALUE=DATE:20190427
DTEND;VALUE=DATE:20190428
DTSTAMP:20260419T234140
CREATED:20190331T204820Z
LAST-MODIFIED:20190411T151144Z
UID:356-1556323200-1556409599@dosokola.cz
SUMMARY:Krajem českých sklářů (pochod)
DESCRIPTION:
URL:https://dosokola.cz/udalost/krajem-ceskych-sklaru-pochod/
END:VEVENT
BEGIN:VEVENT
DTSTART;TZID=Europe/Prague:20190412T170000
DTEND;TZID=Europe/Prague:20190412T200000
DTSTAMP:20260419T234140
CREATED:20190404T171529Z
LAST-MODIFIED:20190404T171529Z
UID:358-1555088400-1555099200@dosokola.cz
SUMMARY:Jarní hrabání listí s opékáním buřtů
DESCRIPTION:
URL:https://dosokola.cz/udalost/jarni-hrabani-listi-s-opekanim-burtu/
END:VEVENT
BEGIN:VEVENT
DTSTART;TZID=Europe/Prague:20190323T200000
DTEND;TZID=Europe/Prague:20190324T020000
DTSTAMP:20260419T234140
CREATED:20161010T172246Z
LAST-MODIFIED:20181213T211836Z
UID:345-1553371200-1553392800@dosokola.cz
SUMMARY:Jarní ples
DESCRIPTION:Oslavte s námi příchod jara na tradičním Jarním plese v Alšovicích. Na plese se můžete těšit na zvěřinovou kuchyni. \nTěší se na Vás sokolové z Alšovic.
URL:https://dosokola.cz/udalost/jarni-ples-2-2/
END:VEVENT
BEGIN:VEVENT
DTSTART;VALUE=DATE:20190316
DTEND;VALUE=DATE:20190317
DTSTAMP:20260419T234140
CREATED:20170216T192957Z
LAST-MODIFIED:20190124T162344Z
UID:349-1552694400-1552780799@dosokola.cz
SUMMARY:Dětský maškarní bál
DESCRIPTION:T. J. Sokol Alšovice pořádá Dětský maškarní bál\, který se koná 16. března od 14:00 v alšovické sokolovně. Pro děti a jejich rodiče připravíme hry\, soutěže a občerstvení. Vyhlásíme nejlepší masku.
URL:https://dosokola.cz/udalost/detsky-maskarni-bal-2/
END:VEVENT
BEGIN:VEVENT
DTSTART;TZID=Europe/Prague:20190222T180000
DTEND;TZID=Europe/Prague:20190222T200000
DTSTAMP:20260419T234140
CREATED:20170112T213045Z
LAST-MODIFIED:20181214T174956Z
UID:343-1550858400-1550865600@dosokola.cz
SUMMARY:Valná hromada jednoty
DESCRIPTION:Agenda valné hromady: \n\nZahájení  a schválení programu valné hromady\nZprávy výboru\n\nZpráva o činnosti 2018\nZpráva o hospodaření 2018\nZpráva o rozpočtu 2018\nPlán činnosti na rok 2019\n\n\nZpráva kontrolní komise\nZprávy vedoucích oddílů\, náčelníka\, náčelnice\nVolba nového výboru tělocvičné jednoty na rok 2019 -2022\nDiskuse\nUsnesení valné hromady
URL:https://dosokola.cz/udalost/valna-hromada-jednoty-2-2/
END:VEVENT
BEGIN:VEVENT
DTSTART;TZID=Europe/Prague:20181208T160000
DTEND;TZID=Europe/Prague:20181208T160000
DTSTAMP:20260419T234140
CREATED:20181004T194418Z
LAST-MODIFIED:20181101T205254Z
UID:311-1544284800-1544284800@dosokola.cz
SUMMARY:ZRUŠENO - Mikulášská besídka
DESCRIPTION:
URL:https://dosokola.cz/udalost/mikulasska-besidka-3/
END:VEVENT
BEGIN:VEVENT
DTSTART;TZID=Europe/Prague:20181124T200000
DTEND;TZID=Europe/Prague:20181124T200000
DTSTAMP:20260419T234140
CREATED:20181004T164848Z
LAST-MODIFIED:20181004T194514Z
UID:306-1543089600-1543089600@dosokola.cz
SUMMARY:Myslivecký ples
DESCRIPTION:
URL:https://dosokola.cz/udalost/zabava-jsb/
END:VEVENT
BEGIN:VEVENT
DTSTART;TZID=Europe/Prague:20181110T200000
DTEND;TZID=Europe/Prague:20181110T200000
DTSTAMP:20260419T234140
CREATED:20181004T165057Z
LAST-MODIFIED:20181008T031653Z
UID:309-1541880000-1541880000@dosokola.cz
SUMMARY:Zábava JSB a Wejkend
DESCRIPTION:
URL:https://dosokola.cz/udalost/zabava-jsb-2/
END:VEVENT
BEGIN:VEVENT
DTSTART;VALUE=DATE:20181027
DTEND;VALUE=DATE:20181028
DTSTAMP:20260419T234140
CREATED:20181004T164626Z
LAST-MODIFIED:20181009T192019Z
UID:301-1540598400-1540684799@dosokola.cz
SUMMARY:100 let republiky
DESCRIPTION:Pozvání na oslavy výročí 100 let vzniku samostatného Československého státu. \nAkce je pořádána pod záštitou Libereckého kraje. \nPořadatelé: \n\nObec Pěnčín\nTJ Sokol Alšovice\nTJ Sokol Bratříkov\nSDH Alšovice\nSDH Bratříkov\nSDH Pěnčín\n\nVíce informací na plakátu zde.
URL:https://dosokola.cz/udalost/100-let-republiky/
END:VEVENT
BEGIN:VEVENT
DTSTART;TZID=Europe/Prague:20181005T080000
DTEND;TZID=Europe/Prague:20181007T170000
DTSTAMP:20260419T234140
CREATED:20181004T164744Z
LAST-MODIFIED:20181005T143711Z
UID:304-1538726400-1538931600@dosokola.cz
SUMMARY:Víkend  pod Vranovskou přehradou
DESCRIPTION:
URL:https://dosokola.cz/udalost/vikend-pod-vranovskou-prehradou/
END:VEVENT
BEGIN:VEVENT
DTSTART;TZID=Europe/Prague:20180907T160000
DTEND;TZID=Europe/Prague:20180907T170000
DTSTAMP:20260419T234140
CREATED:20180905T034824Z
LAST-MODIFIED:20180905T034857Z
UID:297-1536336000-1536339600@dosokola.cz
SUMMARY:Zápis na cvičení
DESCRIPTION:T.J. SOKOL ALŠOVICE ZVE CVIČENCE A CVIČENKY K ZÁPISU\nPRO CVIČEBNÍ OBDOBÍ 2018/2019 \nDNE : 7.9.2018 16.00 – 17.00 \nVíce v přiloženém letáku: \nzapis-na-cviceni-sokol-2018
URL:https://dosokola.cz/udalost/zapis-na-cviceni/
END:VEVENT
BEGIN:VEVENT
DTSTART;VALUE=DATE:20180601
DTEND;VALUE=DATE:20180602
DTSTAMP:20260419T234140
CREATED:20180308T174955Z
LAST-MODIFIED:20180308T174955Z
UID:283-1527811200-1527811200@dosokola.cz
SUMMARY:Dětský den
DESCRIPTION:
URL:https://dosokola.cz/udalost/detsky-den/
END:VEVENT
BEGIN:VEVENT
DTSTART;VALUE=DATE:20180526
DTEND;VALUE=DATE:20180527
DTSTAMP:20260419T234140
CREATED:20180308T174914Z
LAST-MODIFIED:20180522T193558Z
UID:279-1527292800-1527379199@dosokola.cz
SUMMARY:Alšovický jarmareček 8. ročník
DESCRIPTION:
URL:https://dosokola.cz/udalost/alsovicky-jarmarecek-8-rocnik/
END:VEVENT
END:VCALENDAR